BEGIN:VCALENDAR
VERSION:2.0
PRODID:-//NiteLite Promotions - ECPv6.15.20//NONSGML v1.0//EN
CALSCALE:GREGORIAN
METHOD:PUBLISH
X-WR-CALNAME:NiteLite Promotions
X-ORIGINAL-URL:https://nitelite.com
X-WR-CALDESC:Events for NiteLite Promotions
REFRESH-INTERVAL;VALUE=DURATION:PT1H
X-Robots-Tag:noindex
X-PUBLISHED-TTL:PT1H
BEGIN:VTIMEZONE
TZID:America/Chicago
BEGIN:DAYLIGHT
TZOFFSETFROM:-0600
TZOFFSETTO:-0500
TZNAME:CDT
DTSTART:20230312T080000
END:DAYLIGHT
BEGIN:STANDARD
TZOFFSETFROM:-0500
TZOFFSETTO:-0600
TZNAME:CST
DTSTART:20231105T070000
END:STANDARD
BEGIN:DAYLIGHT
TZOFFSETFROM:-0600
TZOFFSETTO:-0500
TZNAME:CDT
DTSTART:20240310T080000
END:DAYLIGHT
BEGIN:STANDARD
TZOFFSETFROM:-0500
TZOFFSETTO:-0600
TZNAME:CST
DTSTART:20241103T070000
END:STANDARD
BEGIN:DAYLIGHT
TZOFFSETFROM:-0600
TZOFFSETTO:-0500
TZNAME:CDT
DTSTART:20250309T080000
END:DAYLIGHT
BEGIN:STANDARD
TZOFFSETFROM:-0500
TZOFFSETTO:-0600
TZNAME:CST
DTSTART:20251102T070000
END:STANDARD
END:VTIMEZONE
BEGIN:VEVENT
DTSTART;TZID=America/Chicago:20241122T193000
DTEND;TZID=America/Chicago:20241122T193000
DTSTAMP:20260425T101423
CREATED:20240424T120444Z
LAST-MODIFIED:20240424T120444Z
UID:10000322-1732303800-1732303800@nitelite.com
SUMMARY:Bored Teachers:  The Struggle is Real! Comedy Tour
DESCRIPTION:Bored Teachers:  The Struggle is Real! Comedy Tour appears at the Peoria Civic Center Theater in Peoria\, IL on November 22 at 7:30PM! \nBORED TEACHERS are back with all new material in their 2024 “The Struggle is Real!!” Comedy Tour. For years\, Bored Teachers Studios has brought humor to teachers around the world to ease their day-to-day struggles in the classroom. They’ve amassed over a billion views of their viral videos on social media and are the #1 ranked teacher-comedy podcast — and #6 of all Stand Up Comedy shows on Apple Podcasts. \nBORED TEACHERS was launched over 8 years ago by founders James and Marilou Tarantino\, both classroom teachers and avid travelers who had met teachers from all over the world who experienced similar struggles and frustrations. The Tarantinos formed a community of their own on social media that shared—in humorous skits\, memes\, and articles—the real experiences of teachers everywhere and how undervalued they are. These stories were so relatable that the BORED TEACHERS creative team grew into a production powerhouse garnishing tens of millions of views for every skit\, story\, and podcast clip posted to the BORED TEACHERS channel. \nBORED TEACHERS is the #1 teacher-entertainment media company in the world. With more than 10 million followers\, BORED TEACHERS is a “one stop shop” for laughter\, stress relief\, and advocacy on behalf of educators. They shine a light on global issues in education through comedy\, and teachers everywhere subscribe to BORED TEACHERS for the relatable teacher humor presented in their viral comedy tour\, hilarious skits\, sarcastic social posts\, classroom anecdotes\, top-of-the-charts podcasts\, and comic articles. \nPlease note that PG-13 language is used during some sets. \nBuy Tickets: https://www.ticketmaster.com/event/07006088BC391610
URL:https://nitelite.com/event/bored-teachers-peoria-il/
LOCATION:Prairie Home Alliance Theater
CATEGORIES:All Events,Comedy,Entertaiment,Event,Upcoming Events
ATTACH;FMTTYPE=image/jpeg:https://nitelite.com/wp-content/uploads/2024/04/BoredTeachers.Peoria.5.jpg
END:VEVENT
BEGIN:VEVENT
DTSTART;TZID=America/Chicago:20241122T193000
DTEND;TZID=America/Chicago:20241122T193000
DTSTAMP:20260425T101423
CREATED:20240806T140003Z
LAST-MODIFIED:20240805T213304Z
UID:10000333-1732303800-1732303800@nitelite.com
SUMMARY:The Princess Bride:  An Inconceivable Evening with Cary Elwes
DESCRIPTION:The Princess Bride: An Inconceivable Evening with Cary Elwes appears at DeVos Performance Hall in Grand Rapids\, MI on Friday\, November 22 at 7:30PM! \nJoin Cary Elwes (Westley) for a behind-the-scenes look at life on and off the set of the classic film\, The Princess Bride. \nAfter a screening of the iconic movie\, Elwes will engage in a moderated discussion revealing never before shared secrets and tales of inconceivable antics! \nJourney back to the lands of Florin and Guilder in an adventure filled with fencing\, fighting\, torture\, revenge\, giants\, monsters\, chases\, escapes\, miracles\, and of course\, true love. \nElwes has been in a multitude of films and tv shows\, including Robin Hood: Men in Tights\, Bram Stoker’s Dracula\, Saw\, Twister\, Liar\, Liar\, Stranger Things and The Marvelous Mrs. Maisel. He recently starred in Guy Ritchie’s “Operation Fortune: Ruse de Guerre”\, “Mission Impossible: Dead Reckoning Part 1” with Tom Cruise\, Zack Snyder’s sci fi epic\, “Rebel Moon\, and his latest film “Sweetwater”\, based on the true story of the first African American signed to the NBA. \nNow Elwes is hitting the road to share with fans the personal stories behind the making of this piece of cinematic history. \nDon’t be a “Humperdinck”\, make haste to see The Princess Bride: An Inconceivable Evening with Cary Elwes for a night you will always “tweasure”. \nA limited number of VIP packages are available and include the best seats in the house\, a Meet and Greet with Cary Elwes\, and a signed copy of Cary Elwes best-selling book\, As You Wish: Inconceivable Tales from the Making of The Princess Bride. \nTickets on sale Friday\, August 9th.
URL:https://nitelite.com/event/the-princess-bride-grand-rapids-mi/
LOCATION:DeVos Performance Hall\, 303 Monroe Ave NW\, Grand Rapids\, MI\, 49503\, United States
CATEGORIES:All Events,Entertaiment,Event,Upcoming Events
ATTACH;FMTTYPE=image/jpeg:https://nitelite.com/wp-content/uploads/2024/08/Princess-Bride-1200-x-628.jpg
END:VEVENT
END:VCALENDAR