BEGIN:VCALENDAR
VERSION:2.0
PRODID:-//NiteLite Promotions - ECPv6.15.20//NONSGML v1.0//EN
CALSCALE:GREGORIAN
METHOD:PUBLISH
X-WR-CALNAME:NiteLite Promotions
X-ORIGINAL-URL:https://nitelite.com
X-WR-CALDESC:Events for NiteLite Promotions
REFRESH-INTERVAL;VALUE=DURATION:PT1H
X-Robots-Tag:noindex
X-PUBLISHED-TTL:PT1H
BEGIN:VTIMEZONE
TZID:America/Chicago
BEGIN:DAYLIGHT
TZOFFSETFROM:-0600
TZOFFSETTO:-0500
TZNAME:CDT
DTSTART:20230312T080000
END:DAYLIGHT
BEGIN:STANDARD
TZOFFSETFROM:-0500
TZOFFSETTO:-0600
TZNAME:CST
DTSTART:20231105T070000
END:STANDARD
BEGIN:DAYLIGHT
TZOFFSETFROM:-0600
TZOFFSETTO:-0500
TZNAME:CDT
DTSTART:20240310T080000
END:DAYLIGHT
BEGIN:STANDARD
TZOFFSETFROM:-0500
TZOFFSETTO:-0600
TZNAME:CST
DTSTART:20241103T070000
END:STANDARD
BEGIN:DAYLIGHT
TZOFFSETFROM:-0600
TZOFFSETTO:-0500
TZNAME:CDT
DTSTART:20250309T080000
END:DAYLIGHT
BEGIN:STANDARD
TZOFFSETFROM:-0500
TZOFFSETTO:-0600
TZNAME:CST
DTSTART:20251102T070000
END:STANDARD
END:VTIMEZONE
BEGIN:VEVENT
DTSTART;TZID=America/Chicago:20241104T190000
DTEND;TZID=America/Chicago:20241104T190000
DTSTAMP:20260425T114225
CREATED:20240329T222850Z
LAST-MODIFIED:20240925T150144Z
UID:10000313-1730746800-1730746800@nitelite.com
SUMMARY:Wheel of Fortune Live!
DESCRIPTION:Wheel of Fortune Live! at the Rialto Square Theatre in Joliet\, IL has been rescheduled from October 10 to November 4 at 7PM! \nPlease read the following statement from the Rialto Square Theatre regarding the rescheduled date. \nWheel of Fortune Live! – America’s Game® comes to the Rialto Square Theatre! Contestants are randomly selected from the audience to join our host onstage and spin a replica of the iconic Wheel\, solve puzzles\, and WIN incredible prizes like trips to Paris and Hawaii or BIG MONEY up to $10\,000 in cash. Audience members can join in on the fun with interactive games and puzzles! You won’t want to miss this thrilling live experience! \nOFFICIAL RULES \nBuy Tickets: https://www.ticketmaster.com/wheel-of-fortune-live-joliet-illinois-10-10-2024/event/07006072DDE0285A
URL:https://nitelite.com/event/wheel-of-fortune-live-joliet/
LOCATION:Rialto Square Theatre\, 102 N. Chicago Street\, Joliet\, IL\, 60432\, United States
CATEGORIES:All Events,Entertaiment,Event,Upcoming Events
ATTACH;FMTTYPE=image/jpeg:https://nitelite.com/wp-content/uploads/2024/03/WOFortune-Joliet-1200x628-01.jpg
END:VEVENT
END:VCALENDAR