BEGIN:VCALENDAR
VERSION:2.0
PRODID:-//NiteLite Promotions - ECPv6.15.20//NONSGML v1.0//EN
CALSCALE:GREGORIAN
METHOD:PUBLISH
X-ORIGINAL-URL:https://nitelite.com
X-WR-CALDESC:Events for NiteLite Promotions
REFRESH-INTERVAL;VALUE=DURATION:PT1H
X-Robots-Tag:noindex
X-PUBLISHED-TTL:PT1H
BEGIN:VTIMEZONE
TZID:America/Chicago
BEGIN:DAYLIGHT
TZOFFSETFROM:-0600
TZOFFSETTO:-0500
TZNAME:CDT
DTSTART:20230312T080000
END:DAYLIGHT
BEGIN:STANDARD
TZOFFSETFROM:-0500
TZOFFSETTO:-0600
TZNAME:CST
DTSTART:20231105T070000
END:STANDARD
BEGIN:DAYLIGHT
TZOFFSETFROM:-0600
TZOFFSETTO:-0500
TZNAME:CDT
DTSTART:20240310T080000
END:DAYLIGHT
BEGIN:STANDARD
TZOFFSETFROM:-0500
TZOFFSETTO:-0600
TZNAME:CST
DTSTART:20241103T070000
END:STANDARD
BEGIN:DAYLIGHT
TZOFFSETFROM:-0600
TZOFFSETTO:-0500
TZNAME:CDT
DTSTART:20250309T080000
END:DAYLIGHT
BEGIN:STANDARD
TZOFFSETFROM:-0500
TZOFFSETTO:-0600
TZNAME:CST
DTSTART:20251102T070000
END:STANDARD
END:VTIMEZONE
BEGIN:VEVENT
DTSTART;TZID=America/Chicago:20241006T190000
DTEND;TZID=America/Chicago:20241006T190000
DTSTAMP:20260425T112119
CREATED:20240213T195047Z
LAST-MODIFIED:20240301T225036Z
UID:10000292-1728241200-1728241200@nitelite.com
SUMMARY:Tom Segura:  Come Together Tour
DESCRIPTION:Tom Segura:  Come Together Tour appears at the Van Andel Arena in Grand Rapids\, MI on Sunday\, October 6\, 2024 at 7:00PM. \nActor/Comedian/Writer Tom Segura is one of the biggest names in comedy. He recently kicked off his highly-anticipated new hour of comedy with the first leg of the COME TOGETHER tour in Honolulu\, HI. This tour comes off the heels of his highly successful world tour\, I’M COMING EVERYWHERE WORLD TOUR\, where he performed over 300 shows. \nSegura is best known for his Netflix specials Ball Hog (2020)\, Disgraceful (2018)\, Mostly Stories (2016)\, and Completely Normal (2014). His fifth Netflix special Sledgehammer released July 4\, 2023 and debuted at #1 on the streamer. In July 2022\, Segura released his New York Times Bestselling book I’D LIKE TO PLAY ALONE\, PLEASE to wide praise with Forbes calling it “laugh out loud funny.” Paste Magazine described him as\, “…having a natural and capable storytelling ability\, one that lifts his narratives out of average anecdote fare and plants them firmly in hilarious ground.” Your Mom’s House Studios is home to his hit podcasts Your Mom’s House which he co-hosts with his wife\, comedian Christina Pazsitzky\, 2 Bears 1 Cave which he co-hosts with Bert Kreischer\, and many more podcasts that reach over 22 million people. Additionally\, YMH Studios was one of the first networks to create wildly successful Livestream Podcast Events as an outcome of the pandemic. \nSegura can be seen in the STX FILM COUNTDOWN opposite Elizabeth Lail\, INSTANT FAMILY opposite Mark Wahlberg and Rose Byrne\, OPENING ACT\, and FLINCH. Segura’s television credits include: Workaholics\, Happy Endings\, Comedy Central Presents: Tom Segura\, Mash Up\, and How To Be A Grown Up. \nSegura has an increasing social media following (@seguratom on IG\, @tomsegura on Twitter). \nWhen he isn’t performing on stage or recording a podcast\, he’s watching college football or waiting for college football to come back. \nBuy Tickets:  https://www.ticketmaster.com/tom-segura-come-together-grand-rapids-michigan-10-06-2024/event/08006046C15D2B42
URL:https://nitelite.com/event/tom-segura-grand-rapids-mi/
LOCATION:Van Andel Arena\, 130 West Fulton\, Grand Rapids\, 49503\, United States
CATEGORIES:All Events,Comedy,Entertaiment,Event,Upcoming Events
ATTACH;FMTTYPE=image/jpeg:https://nitelite.com/wp-content/uploads/2024/02/TomSegura_ComeTogether_2024_1200-x-628.jpg
END:VEVENT
BEGIN:VEVENT
DTSTART;TZID=America/Chicago:20241006T193000
DTEND;TZID=America/Chicago:20241006T193000
DTSTAMP:20260425T112119
CREATED:20240603T161352Z
LAST-MODIFIED:20240603T161402Z
UID:10000327-1728243000-1728243000@nitelite.com
SUMMARY:Steve Martin & Martin Short: “The Dukes of Funnytown!” with special guests Jeff Babko and the Steep Canyon Rangers
DESCRIPTION:Steve Martin & Martin Short: “The Dukes of Funnytown!” with special guests Jeff Babko and the Steep Canyon Rangers appear on October 6 at 7:30PM at the Overture Center in Madison\, WI! \nSteve Martin and Martin Short’s “The Dukes of Funnytown!” is a show that redefines the form in unexpected and profound ways\, from two of the funniest\, most influential and acclaimed talents of the past century. Their humor is often subversive\, but it is always a joyous self-deprecating romp from two comedy masters driven to make each other laugh as much as the audience. The jokes come at you at a rapid-fire pace with little set-up and big punch lines as they mock Hollywood and the fickle nature of celebrity\, but the comedy truly soars when they lovingly (and relentlessly) roast each other. Martin and Short’s chemistry and timing on stage reflects a friendship forged over three decades which developed when they met for the first time on the set of the 1986 film “Three Amigos.” These two titans of comedy have been touring together since 2015\, when they launched their first live show entitled “A Very Stupid Conversation.”
URL:https://nitelite.com/event/steve-martin-martin-short-madison-wi/
LOCATION:Overture Center for the Arts\, 201 State Street\, Madison\, WI\, 53703\, United States
CATEGORIES:All Events,Comedy,Entertaiment,Event,Upcoming Events
ATTACH;FMTTYPE=image/jpeg:https://nitelite.com/wp-content/uploads/2024/06/SMartin-Madison-1200x628-1.jpg
END:VEVENT
END:VCALENDAR